BEGIN:VCALENDAR
VERSION:2.0
PRODID:-//Penn State DC Chapter Alumni Website - ECPv6.15.18//NONSGML v1.0//EN
CALSCALE:GREGORIAN
METHOD:PUBLISH
X-WR-CALNAME:Penn State DC Chapter Alumni Website
X-ORIGINAL-URL:https://psuwashdc.org
X-WR-CALDESC:Events for Penn State DC Chapter Alumni Website
REFRESH-INTERVAL;VALUE=DURATION:PT1H
X-Robots-Tag:noindex
X-PUBLISHED-TTL:PT1H
BEGIN:VTIMEZONE
TZID:America/New_York
BEGIN:DAYLIGHT
TZOFFSETFROM:-0500
TZOFFSETTO:-0400
TZNAME:EDT
DTSTART:20250309T070000
END:DAYLIGHT
BEGIN:STANDARD
TZOFFSETFROM:-0400
TZOFFSETTO:-0500
TZNAME:EST
DTSTART:20251102T060000
END:STANDARD
BEGIN:DAYLIGHT
TZOFFSETFROM:-0500
TZOFFSETTO:-0400
TZNAME:EDT
DTSTART:20260308T070000
END:DAYLIGHT
BEGIN:STANDARD
TZOFFSETFROM:-0400
TZOFFSETTO:-0500
TZNAME:EST
DTSTART:20261101T060000
END:STANDARD
BEGIN:DAYLIGHT
TZOFFSETFROM:-0500
TZOFFSETTO:-0400
TZNAME:EDT
DTSTART:20270314T070000
END:DAYLIGHT
BEGIN:STANDARD
TZOFFSETFROM:-0400
TZOFFSETTO:-0500
TZNAME:EST
DTSTART:20271107T060000
END:STANDARD
END:VTIMEZONE
BEGIN:VEVENT
DTSTART;TZID=America/New_York:20260514T181500
DTEND;TZID=America/New_York:20260514T191500
DTSTAMP:20260421T091028
CREATED:20260420T222148Z
LAST-MODIFIED:20260420T222148Z
UID:10000085-1778782500-1778786100@psuwashdc.org
SUMMARY:Penn State DC VOLO Kickball (Spring 2026): Game 4 🏐
DESCRIPTION:Our Penn State DC VOLO kickball team is back in action this season and already in full swing. While rosters are set\, we’d love to have you out to support Game 4\, then join us at Penn Social afterward. \n\nDate: Thursday\, May 14\, 2026 @ 6:15pm\nLocation: National Mall (Game) & Penn Social (After Game)
URL:https://psuwashdc.org/event/penn-state-dc-volo-kickball-spring-2026-game-3-%f0%9f%8f%90-2/
ORGANIZER;CN="Sports Committee":MAILTO:sports@psuwashdc.org
END:VEVENT
END:VCALENDAR