BEGIN:VCALENDAR
VERSION:2.0
PRODID:-//Penn State DC Chapter Alumni Website - ECPv6.15.18//NONSGML v1.0//EN
CALSCALE:GREGORIAN
METHOD:PUBLISH
X-ORIGINAL-URL:https://psuwashdc.org
X-WR-CALDESC:Events for Penn State DC Chapter Alumni Website
REFRESH-INTERVAL;VALUE=DURATION:PT1H
X-Robots-Tag:noindex
X-PUBLISHED-TTL:PT1H
BEGIN:VTIMEZONE
TZID:America/New_York
BEGIN:DAYLIGHT
TZOFFSETFROM:-0500
TZOFFSETTO:-0400
TZNAME:EDT
DTSTART:20250309T070000
END:DAYLIGHT
BEGIN:STANDARD
TZOFFSETFROM:-0400
TZOFFSETTO:-0500
TZNAME:EST
DTSTART:20251102T060000
END:STANDARD
BEGIN:DAYLIGHT
TZOFFSETFROM:-0500
TZOFFSETTO:-0400
TZNAME:EDT
DTSTART:20260308T070000
END:DAYLIGHT
BEGIN:STANDARD
TZOFFSETFROM:-0400
TZOFFSETTO:-0500
TZNAME:EST
DTSTART:20261101T060000
END:STANDARD
BEGIN:DAYLIGHT
TZOFFSETFROM:-0500
TZOFFSETTO:-0400
TZNAME:EDT
DTSTART:20270314T070000
END:DAYLIGHT
BEGIN:STANDARD
TZOFFSETFROM:-0400
TZOFFSETTO:-0500
TZNAME:EST
DTSTART:20271107T060000
END:STANDARD
END:VTIMEZONE
BEGIN:VEVENT
DTSTART;TZID=America/New_York:20260423T190000
DTEND;TZID=America/New_York:20260423T200000
DTSTAMP:20260421T060345
CREATED:20260420T221915Z
LAST-MODIFIED:20260420T221915Z
UID:10000082-1776970800-1776974400@psuwashdc.org
SUMMARY:Penn State DC VOLO Kickball (Spring 2026): Game 1 🏐
DESCRIPTION:Our Penn State DC VOLO kickball team is back in action this season and already in full swing. While rosters are set\, we’d love to have you out to support Game 1\, then join us at Penn Social afterward. \n\nDate: Thursday\, April 23\, 2026 @ 7pm\nLocation: National Mall (Game) & Penn Social (After Game)
URL:https://psuwashdc.org/event/penn-state-dc-volo-kickball-spring-2026-game-1-%f0%9f%8f%90/
ORGANIZER;CN="Sports Committee":MAILTO:sports@psuwashdc.org
END:VEVENT
BEGIN:VEVENT
DTSTART;TZID=America/New_York:20260424T181500
DTEND;TZID=America/New_York:20260424T191500
DTSTAMP:20260421T060345
CREATED:20260420T215100Z
LAST-MODIFIED:20260420T220111Z
UID:10000077-1777054500-1777058100@psuwashdc.org
SUMMARY:PSU CAN Softball 2026 vs. North Carolina 🥎
DESCRIPTION:Our CAN (Capital Alumni Network) softball team is back in action this season and already in full swing. While rosters are set\, we’d love to have you out to support Game 2 vs. North Carolina \n\nDate: Friday\, April 24\, 2026 @ 6:15pm\nLocation: West Potomac Park\nField: 4
URL:https://psuwashdc.org/event/psu-can-softball-2026-vs-north-carolina-%f0%9f%a5%8e/
ORGANIZER;CN="Sports Committee":MAILTO:sports@psuwashdc.org
END:VEVENT
BEGIN:VEVENT
DTSTART;TZID=America/New_York:20260425T103000
DTEND;TZID=America/New_York:20260425T123000
DTSTAMP:20260421T060345
CREATED:20260325T004524Z
LAST-MODIFIED:20260325T005515Z
UID:10000076-1777113000-1777120200@psuwashdc.org
SUMMARY:5th Annual Big Ten Fun Run 2026 🏃‍♂️
DESCRIPTION:Join fellow Nittany Lions and alumni from Big Ten schools at this year’s 5th Annual Big Ten Fun Run! This year’s event is proudly sponsored by The Capital Area Iowa Club. \nCome to Salt Line DC on April 25th at 10:30am for a fun run with participants from all of the Big Ten alumni clubs in the area. \nHere’s some new details and notes for the run! \n​We wanted to share out some more details on what to expect and how to plan. \n\nMake sure to wear your school colors!  We have approximately 100 people signed up and expect more day so we got to show off our school pride!\nParking\, here’s a link to available parking near Salt Line: Free Parking & Garages Deals near The Salt Line | SpotAngels\nBefore we start the run\, we’ll attempt to take a group photo.  Please arrive early if you’d like to join in.\nWe’ll have a bag check with a couple volunteers at the start of the race.\nWe’ll kick off the run at 10:30am on the road in front of Salt Line DC.  We’ve included a map below of the route.\nThe route below is a 5k.  If you want to do a 10k\, just take another lap!\nThis is a self-timed run so we will not have timing chips or a clock.\nAfter the run\, we can enjoy a cool drink at Salt Line.  If it gets too busy\, we can do an overflow at Dacha Beer Garden next door which opens at 11am.\n\nYou can see the route below (click on it for a direct link to it).\nPlease sign up below to get updates and give us an idea on how many to expect.  (Sign up is not mandatory) \nRSVP form (On The Capital Area Iowa Club’s website): https://www.capitalareaiowaclub.com/bigtenfunrun.html 
URL:https://psuwashdc.org/event/5th-annual-big-ten-fun-run-2026/
LOCATION:The Salt Line DC\, 79 Potomac Ave SE\, Washington\, DC\, 20003\, United States
ORGANIZER;CN="Social Committee":MAILTO:social@psuwashdc.org
END:VEVENT
BEGIN:VEVENT
DTSTART;TZID=America/New_York:20260430T190000
DTEND;TZID=America/New_York:20260430T200000
DTSTAMP:20260421T060345
CREATED:20260420T222010Z
LAST-MODIFIED:20260420T222010Z
UID:10000083-1777575600-1777579200@psuwashdc.org
SUMMARY:Penn State DC VOLO Kickball (Spring 2026): Game 2 🏐
DESCRIPTION:Our Penn State DC VOLO kickball team is back in action this season and already in full swing. While rosters are set\, we’d love to have you out to support Game 2\, then join us at Penn Social afterward. \n\nDate: Thursday\, April 30\, 2026 @ 7pm\nLocation: National Mall (Game) & Penn Social (After Game)
URL:https://psuwashdc.org/event/penn-state-dc-volo-kickball-spring-2026-game-2-%f0%9f%8f%90/
ORGANIZER;CN="Sports Committee":MAILTO:sports@psuwashdc.org
END:VEVENT
END:VCALENDAR